BEGIN:VCALENDAR
VERSION:2.0
PRODID:-//CMAinLA - ECPv6.15.20//NONSGML v1.0//EN
CALSCALE:GREGORIAN
METHOD:PUBLISH
X-WR-CALNAME:CMAinLA
X-ORIGINAL-URL:https://cmainla.com
X-WR-CALDESC:Events for CMAinLA
REFRESH-INTERVAL;VALUE=DURATION:PT1H
X-Robots-Tag:noindex
X-PUBLISHED-TTL:PT1H
BEGIN:VTIMEZONE
TZID:America/Los_Angeles
BEGIN:DAYLIGHT
TZOFFSETFROM:-0800
TZOFFSETTO:-0700
TZNAME:PDT
DTSTART:20250309T100000
END:DAYLIGHT
BEGIN:STANDARD
TZOFFSETFROM:-0700
TZOFFSETTO:-0800
TZNAME:PST
DTSTART:20251102T090000
END:STANDARD
BEGIN:DAYLIGHT
TZOFFSETFROM:-0800
TZOFFSETTO:-0700
TZNAME:PDT
DTSTART:20260308T100000
END:DAYLIGHT
BEGIN:STANDARD
TZOFFSETFROM:-0700
TZOFFSETTO:-0800
TZNAME:PST
DTSTART:20261101T090000
END:STANDARD
BEGIN:DAYLIGHT
TZOFFSETFROM:-0800
TZOFFSETTO:-0700
TZNAME:PDT
DTSTART:20270314T100000
END:DAYLIGHT
BEGIN:STANDARD
TZOFFSETFROM:-0700
TZOFFSETTO:-0800
TZNAME:PST
DTSTART:20271107T090000
END:STANDARD
END:VTIMEZONE
BEGIN:VEVENT
DTSTART;TZID=America/Los_Angeles:20260425T100000
DTEND;TZID=America/Los_Angeles:20260425T110000
DTSTAMP:20260424T111645
CREATED:20240210T183548Z
LAST-MODIFIED:20241122T191206Z
UID:10000470-1777111200-1777114800@cmainla.com
SUMMARY:LA Service Manual Meeting
DESCRIPTION:Please join us in writing a local Los Angeles Area Service Manual. \nThis document will be available to all those who are entering into service on the meeting level or the District level. \nThis manual will pass on our traditions of service and record our collective knowledge specific to our District. \nJoin the meeting at: \nhttps://us02web.zoom.us/j/87201247785 \nMeeting ID: 872 0124 7785 \n 
URL:https://cmainla.com/event/la-service-manual-meeting/2026-04-25/
CATEGORIES:Be of Service
END:VEVENT
END:VCALENDAR