BEGIN:VCALENDAR
VERSION:2.0
PRODID:-//CMAinLA - ECPv6.15.20//NONSGML v1.0//EN
CALSCALE:GREGORIAN
METHOD:PUBLISH
X-WR-CALNAME:CMAinLA
X-ORIGINAL-URL:https://cmainla.com
X-WR-CALDESC:Events for CMAinLA
REFRESH-INTERVAL;VALUE=DURATION:PT1H
X-Robots-Tag:noindex
X-PUBLISHED-TTL:PT1H
BEGIN:VTIMEZONE
TZID:America/Los_Angeles
BEGIN:DAYLIGHT
TZOFFSETFROM:-0800
TZOFFSETTO:-0700
TZNAME:PDT
DTSTART:20240310T100000
END:DAYLIGHT
BEGIN:STANDARD
TZOFFSETFROM:-0700
TZOFFSETTO:-0800
TZNAME:PST
DTSTART:20241103T090000
END:STANDARD
BEGIN:DAYLIGHT
TZOFFSETFROM:-0800
TZOFFSETTO:-0700
TZNAME:PDT
DTSTART:20250309T100000
END:DAYLIGHT
BEGIN:STANDARD
TZOFFSETFROM:-0700
TZOFFSETTO:-0800
TZNAME:PST
DTSTART:20251102T090000
END:STANDARD
BEGIN:DAYLIGHT
TZOFFSETFROM:-0800
TZOFFSETTO:-0700
TZNAME:PDT
DTSTART:20260308T100000
END:DAYLIGHT
BEGIN:STANDARD
TZOFFSETFROM:-0700
TZOFFSETTO:-0800
TZNAME:PST
DTSTART:20261101T090000
END:STANDARD
END:VTIMEZONE
BEGIN:VEVENT
DTSTART;TZID=America/Los_Angeles:20250705T190000
DTEND;TZID=America/Los_Angeles:20250705T200000
DTSTAMP:20260424T202224
CREATED:20250627T211729Z
LAST-MODIFIED:20250627T211812Z
UID:10001815-1751742000-1751745600@cmainla.com
SUMMARY:Meeting Crashers! - July - Desert
DESCRIPTION:Meeting Crashers for July (in the desert) will be taking place at: \nRead This! \nSaturday 7:00 PM – 8:00 PM \nSunny Dunes Clubhouse Room Room 2\n4711 E Palm Canyon Dr.\nPalm Springs\, CA 92264
URL:https://cmainla.com/event/meeting-crashers-july-desert/
CATEGORIES:District Events,Regional CMA Event
END:VEVENT
BEGIN:VEVENT
DTSTART;TZID=America/Los_Angeles:20250708T190000
DTEND;TZID=America/Los_Angeles:20250708T200000
DTSTAMP:20260424T202224
CREATED:20250103T024233Z
LAST-MODIFIED:20250115T022753Z
UID:10001175-1752001200-1752004800@cmainla.com
SUMMARY:Diversity\, Equity & Inclusion Committee
DESCRIPTION:Our mission is to foster a culture within the Greater Los Angeles District\, where Diversity\, Equity & Inclusion are celebrated. The purpose is to serve as an advisory committee to the local CMA fellowship\, creating a safe space for the recovering addict while encouraging mindfulness towards DEI-related issues\, to facilitate discussion plus offer guidance on ways to welcome and embrace all who walk through our doors with respect\, regardless of age\, race\, physical appearance\, religion\, sex\, sexual orientation\, gender identity\, background\, or disability. \nThe DEI Committee meets on the second Tuesday of every month at 7:00pm via Zoom. \nLaunch Zoom Meeting \nMeeting: ID: 884 7782 9065\nPasscode: DEI \n  \nFeel free to reach out to the Diversity\, Equity\, and Inclusion Committee with any thoughts\, feelings\, questions\, or suggestions. Contact us below for more information. \nEmail Address*Name*FirstLastEmail address*Subject*info*Send
URL:https://cmainla.com/event/diversity-equity-inclusion-committee-2-2-2/2025-07-08/
CATEGORIES:Be of Service,District Events
ATTACH;FMTTYPE=image/jpeg:https://cmainla.com/wp-content/uploads/2022/04/service-imgey-DEI-1.jpg
END:VEVENT
BEGIN:VEVENT
DTSTART;TZID=America/Los_Angeles:20250708T193000
DTEND;TZID=America/Los_Angeles:20250708T203000
DTSTAMP:20260424T202224
CREATED:20250627T212103Z
LAST-MODIFIED:20250627T212853Z
UID:10001816-1752003000-1752006600@cmainla.com
SUMMARY:Meeting Crashers! - July - City
DESCRIPTION:Meeting Crashers for July (in the city) will be taking place at: \nSpinning into the Solution \nTuesday 7:30 PM – 8:30 PM PDT \nVan Ness Recovery House\n1919 N Beachwood Dr.\nLos Angeles\, CA 90068
URL:https://cmainla.com/event/meeting-crashers-july-city/
CATEGORIES:District Events,Regional CMA Event
END:VEVENT
BEGIN:VEVENT
DTSTART;TZID=America/Los_Angeles:20250712T100000
DTEND;TZID=America/Los_Angeles:20250712T233000
DTSTAMP:20260424T202224
CREATED:20231209T214147Z
LAST-MODIFIED:20250112T001736Z
UID:10000208-1752314400-1752363000@cmainla.com
SUMMARY:Greater LA District of CMA GSR Meeting - ONLINE
DESCRIPTION:Greater LA District of CMA GSR Meeting – ONLINE ONLY\nJoin Zoom Meeting\nMeeting ID:  868 9224 8315\nPasscode:  GSR \nGSRs: About your meeting(s) info: Is it “up to date”?\nPlease keep your information current. \n\n\n\nNEW: GSR News from the Chairperson. \nAt the monthly GSR meeting (when we meet in person) we have anniversary chips to 25 years\, bronze medallions to 15 years\, and new plastic recovery chips that commemorate each month of sobriety!  Ask your CMA Meeting’s GSR to get these for your meeting. You can order gold plated Medallions now available at the online CMA’s Recovery Store. \nCMA also has a Literature On-Demand portal\, which currently carries CMA pamphlets.  Pamphlets are printed in various paper colors\, folded then sent to you.
URL:https://cmainla.com/event/cma-gsr-monthly-meeting-2/2025-07-12/
CATEGORIES:Be of Service,District Events
ATTACH;FMTTYPE=image/jpeg:https://cmainla.com/wp-content/uploads/2022/04/service-imgey-GSR-1.jpg
END:VEVENT
BEGIN:VEVENT
DTSTART;TZID=America/Los_Angeles:20250712T113000
DTEND;TZID=America/Los_Angeles:20250712T123000
DTSTAMP:20260424T202224
CREATED:20250112T000946Z
LAST-MODIFIED:20250112T001634Z
UID:10001238-1752319800-1752323400@cmainla.com
SUMMARY:CMA H&I Committee Monthly Meeting
DESCRIPTION:The Monthly H&I Meeting occurs the second Saturday of every month after the GSR meeting.\n \nJoin Zoom Meeting\nMeeting ID:  868 9224 8315\nPasscode:  GSR
URL:https://cmainla.com/event/cma-hi-monthly-meeting/2025-07-12/
CATEGORIES:Be of Service,District Events,H&I Events
ATTACH;FMTTYPE=image/jpeg:https://cmainla.com/wp-content/uploads/2022/04/service-imgey-HI-1.jpg
END:VEVENT
BEGIN:VEVENT
DTSTART;TZID=America/Los_Angeles:20250720T111500
DTEND;TZID=America/Los_Angeles:20250720T151500
DTSTAMP:20260424T202224
CREATED:20250627T213528Z
LAST-MODIFIED:20250702T022817Z
UID:10001817-1753010100-1753024500@cmainla.com
SUMMARY:Superman Movie Fellowship
DESCRIPTION:Superman Movie Fellowship \nSunday\, July 20 \nSuperman Movie Starts at 12:15 PM \nUniversal Cinema AMC at CityWalk Hollywood\n100 Universal City Plaza\,\nUniversal City\, CA 91608 \nMeet up For Donuts at Voodoo Donuts across from the\ntheater – 11:15am
URL:https://cmainla.com/event/superman-movie-fellowship/
LOCATION:Universal CityWalk Hollywood\, 100 Universal City Plaza\,\, Universal City\, CA\, 91608\, United States
CATEGORIES:District Events,Regional CMA Event
END:VEVENT
END:VCALENDAR