BEGIN:VCALENDAR
VERSION:2.0
PRODID:-//CMAinLA - ECPv6.15.20//NONSGML v1.0//EN
CALSCALE:GREGORIAN
METHOD:PUBLISH
X-ORIGINAL-URL:https://cmainla.com
X-WR-CALDESC:Events for CMAinLA
REFRESH-INTERVAL;VALUE=DURATION:PT1H
X-Robots-Tag:noindex
X-PUBLISHED-TTL:PT1H
BEGIN:VTIMEZONE
TZID:America/Los_Angeles
BEGIN:DAYLIGHT
TZOFFSETFROM:-0800
TZOFFSETTO:-0700
TZNAME:PDT
DTSTART:20250309T100000
END:DAYLIGHT
BEGIN:STANDARD
TZOFFSETFROM:-0700
TZOFFSETTO:-0800
TZNAME:PST
DTSTART:20251102T090000
END:STANDARD
BEGIN:DAYLIGHT
TZOFFSETFROM:-0800
TZOFFSETTO:-0700
TZNAME:PDT
DTSTART:20260308T100000
END:DAYLIGHT
BEGIN:STANDARD
TZOFFSETFROM:-0700
TZOFFSETTO:-0800
TZNAME:PST
DTSTART:20261101T090000
END:STANDARD
BEGIN:DAYLIGHT
TZOFFSETFROM:-0800
TZOFFSETTO:-0700
TZNAME:PDT
DTSTART:20270314T100000
END:DAYLIGHT
BEGIN:STANDARD
TZOFFSETFROM:-0700
TZOFFSETTO:-0800
TZNAME:PST
DTSTART:20271107T090000
END:STANDARD
END:VTIMEZONE
BEGIN:VEVENT
DTSTART;TZID=America/Los_Angeles:20260221T130000
DTEND;TZID=America/Los_Angeles:20260221T150000
DTSTAMP:20260424T144009
CREATED:20260118T204818Z
LAST-MODIFIED:20260214T175439Z
UID:10001828-1771678800-1771686000@cmainla.com
SUMMARY:Palm Springs Unity Day 2026
DESCRIPTION:🕺 DAYTIME DISCO IN THE DESERT\nWe’re Staying Alive — Together \nJoin us for Unit Day on Saturday \, February 21st\, from 1:00–3:00 PM at Our Savior Church \nCome together for fellowship\, connection\, and fun with a disco-themed afternoon in the desert. \n✨ Disco attire encouraged\n🍽️ Fellowship and activities\n🤝 Community connection
URL:https://cmainla.com/event/unity-day-2026/
LOCATION:Our Savior’s Palm Springs\, 1020 Ramon Rd\, Palm Springs\, CA\, 92264\, United States
CATEGORIES:District Events,Regional CMA Event
END:VEVENT
END:VCALENDAR